BEGIN:VCALENDAR
VERSION:2.0
PRODID:-//Restaurante Bugambil en Madrid Cundinamarca - ECPv6.8.2.1//NONSGML v1.0//EN
CALSCALE:GREGORIAN
METHOD:PUBLISH
X-WR-CALNAME:Restaurante Bugambil en Madrid Cundinamarca
X-ORIGINAL-URL:https://restaurantebugambil.com
X-WR-CALDESC:Eventos para Restaurante Bugambil en Madrid Cundinamarca
REFRESH-INTERVAL;VALUE=DURATION:PT1H
X-Robots-Tag:noindex
X-PUBLISHED-TTL:PT1H
BEGIN:VTIMEZONE
TZID:America/Bogota
BEGIN:STANDARD
TZOFFSETFROM:-0500
TZOFFSETTO:-0500
TZNAME:-05
DTSTART:20240101T000000
END:STANDARD
END:VTIMEZONE
BEGIN:VEVENT
DTSTART;VALUE=DATE:20241001
DTEND;VALUE=DATE:20241002
DTSTAMP:20260419T165941
CREATED:20240929T180947Z
LAST-MODIFIED:20240929T181746Z
UID:3207-1727740800-1727827199@restaurantebugambil.com
SUMMARY:Apertura de la Temporada de Halloween
DESCRIPTION:Apertura de la Temporada de Halloween – Mes de los Disfraces en Restaurante Bugambil\n¡Celebra con Nosotros el Inicio de una Temporada Espeluznante!\nEn Restaurante Bugambil\, siempre nos esforzamos por ofrecer experiencias únicas\, y esta vez\, no será la excepción. A partir del 1 de octubre\, damos inicio al Mes de los Disfraces de Halloween\, un evento lleno de diversión\, sorpresas y mucha emoción. Nuestro restaurante\, con más de 38 años de tradición en la región de Madrid\, Cundinamarca\, se transforma para ofrecer una experiencia inolvidable. \n¿Qué Puedes Esperar del Mes de los Disfraces?\n\nPlatos temáticos: Nuestro menú incluirá delicias especiales con una presentación que te sorprenderá\, fusionando lo mejor de la cocina colombiana con el ambiente festivo de Halloween.\nMúsica en vivo los fines de semana: Cada sábado y domingo tendremos presentaciones de música en vivo\, creando el ambiente perfecto para disfrutar en familia o con amigos.\nConcursos de disfraces: Invita a tus seres queridos a venir disfrazados\, ya que los mejores disfraces tendrán la oportunidad de ganar premios espectaculares.\nEspacio decorado: Todo el restaurante se llenará de decoraciones temáticas para hacerte sentir como si estuvieras dentro de una verdadera fiesta de Halloween\, con detalles que te asombrarán.\n\nFechas Importantes y Sorpresas\nLa temporada de Halloween en Bugambil estará cargada de sorpresas todos los fines de semana. ¡No dejes de visitarnos\, ya que cada semana tendrás algo nuevo por descubrir! Desde shows especiales hasta cenas temáticas\, cada momento estará pensado para brindarte una experiencia diferente. Y\, por supuesto\, siempre con la cálida atención y el sabor casero que nos caracteriza. \n¡No te Quedes Fuera de la Diversión!\nTe invitamos a que reserves con anticipación para asegurar tu lugar en este gran evento. Restaurante Bugambil cuenta con un amplio parqueadero y un entorno natural que hará de tu visita una experiencia aún más memorable. Ubicados en Madrid\, Cundinamarca\, somos el lugar ideal para pasar un día lleno de diversión\, buena comida y grandes recuerdos. \n¡Prepárate para vivir un Mes de los Disfraces como nunca antes! Te esperamos en Restaurante Bugambil\, donde cada detalle está diseñado para ofrecerte una experiencia mágica e inolvidable. \nPara más información y reservas\, no dudes en visitar nuestra página web o contactarnos directamente.
URL:https://restaurantebugambil.com/event/apertura-de-la-temporada-de-halloween/
LOCATION:Restaurante Bugambil\, Restaurante Bugambil\, Madrid\, Cundinamarca\, Madrid\, Cundinamarca\, Colombia
CATEGORIES:Eventos en Madrid Cundinamarca
ATTACH;FMTTYPE=image/png:https://restaurantebugambil.com/wp-content/uploads/2024/09/halloween-bugambila.png
END:VEVENT
END:VCALENDAR